BEGIN:VCALENDAR
VERSION:2.0
PRODID:-//Friends of the Prairie Wetlands Learning Center - ECPv6.15.20//NONSGML v1.0//EN
CALSCALE:GREGORIAN
METHOD:PUBLISH
X-ORIGINAL-URL:https://www.prairiewetlands.org
X-WR-CALDESC:Events for Friends of the Prairie Wetlands Learning Center
REFRESH-INTERVAL;VALUE=DURATION:PT1H
X-Robots-Tag:noindex
X-PUBLISHED-TTL:PT1H
BEGIN:VTIMEZONE
TZID:UTC
BEGIN:STANDARD
TZOFFSETFROM:+0000
TZOFFSETTO:+0000
TZNAME:UTC
DTSTART:20250101T000000
END:STANDARD
END:VTIMEZONE
BEGIN:VEVENT
DTSTART;TZID=UTC:20260424T043000
DTEND;TZID=UTC:20260424T063000
DTSTAMP:20260424T214214
CREATED:20260409T193904Z
LAST-MODIFIED:20260409T193956Z
UID:2050-1777005000-1777012200@www.prairiewetlands.org
SUMMARY:Adventure Painting with Katrina Case
DESCRIPTION:Meet on Prairie Wetlands Learning Center deck at 5:30 pm Thursday\, 4/23 OR 5:30 pm Friday\, 4/24.\n\nCapture the beauty of the prairie and wildlife you might observe.\n\nHike < 1/4 mile with the group. At your chosen observation point\,relax\, get in the moment\, and enjoy a 2-hour guided painting session.
URL:https://www.prairiewetlands.org/event/adventure-painting-with-katrina-case/
LOCATION:Prairie Wetlands Learning Center\, 602 STATE HWY 210 E\, FERGUS FALLS\, MN\, 56537\, United States
ORGANIZER;CN="Prairie Wetlands Learning Center":MAILTO:prairiewet@fws.gov
END:VEVENT
BEGIN:VEVENT
DTSTART;TZID=UTC:20260425T043000
DTEND;TZID=UTC:20260425T063000
DTSTAMP:20260424T214214
CREATED:20260409T194438Z
LAST-MODIFIED:20260409T194438Z
UID:2052-1777091400-1777098600@www.prairiewetlands.org
SUMMARY:Adventure Painting with Katrina Case
DESCRIPTION:Meet on Prairie Wetlands Learning Center deck at 5:30 pm Thursday\, 4/23 OR 5:30 pm Friday\, 4/24.\n\nCapture the beauty of the prairie and wildlife you might observe.\n\nHike < 1/4 mile with the group. At your chosen observation point\,relax\, get in the moment\, and enjoy a 2-hour guided painting session.
URL:https://www.prairiewetlands.org/event/adventure-painting-with-katrina-case-2/
LOCATION:Prairie Wetlands Learning Center\, 602 STATE HWY 210 E\, FERGUS FALLS\, MN\, 56537\, United States
ORGANIZER;CN="Prairie Wetlands Learning Center":MAILTO:prairiewet@fws.gov
END:VEVENT
BEGIN:VEVENT
DTSTART;VALUE=DATE:20260425
DTEND;VALUE=DATE:20260427
DTSTAMP:20260424T214214
CREATED:20260304T205953Z
LAST-MODIFIED:20260409T193127Z
UID:1636-1777114800-1777201199@www.prairiewetlands.org
SUMMARY:Earth Day Event
DESCRIPTION:Join us at the Prairie Wetlands Learning Center for Earth Day fun for the whole family! Featuring folk singer Sarina Partridge\, artist Katrina Case\, scavenger hunt\, nature walks\, Otter Cove\, art activities and much more \nClick here for more info
URL:https://www.prairiewetlands.org/event/earth-day-event/
LOCATION:Prairie Wetlands Learning Center\, 602 STATE HWY 210 E\, FERGUS FALLS\, MN\, 56537\, United States
END:VEVENT
END:VCALENDAR