BEGIN:VCALENDAR
VERSION:2.0
PRODID:-//Friends of the Prairie Wetlands Learning Center - ECPv6.15.20//NONSGML v1.0//EN
CALSCALE:GREGORIAN
METHOD:PUBLISH
X-ORIGINAL-URL:https://www.prairiewetlands.org
X-WR-CALDESC:Events for Friends of the Prairie Wetlands Learning Center
REFRESH-INTERVAL;VALUE=DURATION:PT1H
X-Robots-Tag:noindex
X-PUBLISHED-TTL:PT1H
BEGIN:VTIMEZONE
TZID:UTC
BEGIN:STANDARD
TZOFFSETFROM:+0000
TZOFFSETTO:+0000
TZNAME:UTC
DTSTART:20250101T000000
END:STANDARD
END:VTIMEZONE
BEGIN:VEVENT
DTSTART;TZID=UTC:20260504T170000
DTEND;TZID=UTC:20260504T190000
DTSTAMP:20260424T220254
CREATED:20260112T195632Z
LAST-MODIFIED:20260112T195632Z
UID:1041-1777914000-1777921200@www.prairiewetlands.org
SUMMARY:Board Meeting
DESCRIPTION:Join The Friends of The Prairie Wetlands Learning Center for a board meeting.
URL:https://www.prairiewetlands.org/event/board-meeting-6/
LOCATION:Prairie Wetlands Learning Center\, 602 STATE HWY 210 E\, FERGUS FALLS\, MN\, 56537\, United States
END:VEVENT
END:VCALENDAR