BEGIN:VCALENDAR
VERSION:2.0
PRODID:-//Friends of the Prairie Wetlands Learning Center - ECPv6.15.20//NONSGML v1.0//EN
CALSCALE:GREGORIAN
METHOD:PUBLISH
X-ORIGINAL-URL:https://www.prairiewetlands.org
X-WR-CALDESC:Events for Friends of the Prairie Wetlands Learning Center
REFRESH-INTERVAL;VALUE=DURATION:PT1H
X-Robots-Tag:noindex
X-PUBLISHED-TTL:PT1H
BEGIN:VTIMEZONE
TZID:UTC
BEGIN:STANDARD
TZOFFSETFROM:+0000
TZOFFSETTO:+0000
TZNAME:UTC
DTSTART:20250101T000000
END:STANDARD
END:VTIMEZONE
BEGIN:VEVENT
DTSTART;TZID=UTC:20260601T170000
DTEND;TZID=UTC:20260601T190000
DTSTAMP:20260425T133525
CREATED:20260112T193319Z
LAST-MODIFIED:20260112T193348Z
UID:1024-1780333200-1780340400@www.prairiewetlands.org
SUMMARY:Board Meeting
DESCRIPTION:Join The Friends of The Prairie Wetlands Learning Center for a board meeting.
URL:https://www.prairiewetlands.org/event/board-meeting-7/
LOCATION:Prairie Wetlands Learning Center\, 602 STATE HWY 210 E\, FERGUS FALLS\, MN\, 56537\, United States
END:VEVENT
BEGIN:VEVENT
DTSTART;TZID=UTC:20260622T080000
DTEND;TZID=UTC:20260625T130000
DTSTAMP:20260425T133525
CREATED:20260304T210341Z
LAST-MODIFIED:20260413T203943Z
UID:1640-1782115200-1782392400@www.prairiewetlands.org
SUMMARY:Teaching in the Outdoor Classroom Workshop
DESCRIPTION:All who teach children are invited to explore innovative ways to use an outdoor classroom during this preK-12th grade introductory workshop. Gain knowledge and real-world experience in the prairie pothole ecosystem with direct carry-over to any geographic location\, any age\, any season using this simple\, practical\, and proven approach. This workshop will be held at the Prairie Wetlands Learning Center in Fergus Falls\, MN.June 22-June 25\, 2026Monday: 8am-4:30pmTuesday & Wednesday: 9:00am-3:30pmThursday: 9:00am-1:00pmReceive a Certificate for 23 Clock Hours for Continuing Education CreditsCost: $40.00Dorm option: $125.00 (if needed\, cost covers entire length of stay)(dorm space is shared with other workshop participants)(you will need to provide your own linens and towels)Workshop Flyer: https://drive.google.com/…/1fWZwTjQydZLEdY51fqX…/view…Register: https://www.prairiewetlands.org/teaching-in-the-outdoor…/ 
URL:https://www.prairiewetlands.org/event/teaching-in-the-outdoor-classroom-workshop-2/
LOCATION:Prairie Wetlands Learning Center\, 602 STATE HWY 210 E\, FERGUS FALLS\, MN\, 56537\, United States
ORGANIZER;CN="Prairie Wetlands Learning Center":MAILTO:prairiewet@fws.gov
END:VEVENT
BEGIN:VEVENT
DTSTART;TZID=UTC:20260623T090000
DTEND;TZID=UTC:20260625T120000
DTSTAMP:20260425T133525
CREATED:20260304T210153Z
LAST-MODIFIED:20260304T210153Z
UID:1638-1782205200-1782388800@www.prairiewetlands.org
SUMMARY:Summer Explorers Biology Camp
DESCRIPTION:Are you looking for a summer adventure? An infinite number of discoveries await you at the Prairie Wetlands Learning Center. Come explore the biology of prairies and wetlands and have fun at the same time!Students entering 5th or 6th grade in Fall 2026 who are curious and enjoy learning about nature and being in nature.Camp is Tuesday\, June 23\, through Thursday\, June 25\, 2026. Full attendance is needed all 3 days.Tuesday – Thursday: 9:00am-12:00 noonThe Summer Explorers Biology Camp is held at the Prairie Wetlands Learning Center in Fergus Falls\, MN.Camp instructors will be Fergus Falls School District teacher Mona Davis and retired U.S. Fish and Wildlife Service environmental educator Molly Stoddard.\nTo register your child\, please visit the Friends of the Prairie Wetlands Learning Center website: https://www.prairiewetlands.org/summer-explorers-biology…/\nRegistration takes place entirely online on a first-come first-served basis. A waiting list will be maintained in case of cancellations. Campers will receive an acknowledgment and later\, a detailed confirmation letter. FREEQuestions about registration? Please call the Friends of the PWLC 218-998-4488.To view the Biology Camp Brochure: https://drive.google.com/…/13kNvAIbkUS…/view… 
URL:https://www.prairiewetlands.org/event/summer-explorers-biology-camp-2/
LOCATION:Prairie Wetlands Learning Center\, 602 STATE HWY 210 E\, FERGUS FALLS\, MN\, 56537\, United States
ORGANIZER;CN="Prairie Wetlands Learning Center":MAILTO:prairiewet@fws.gov
END:VEVENT
BEGIN:VEVENT
DTSTART;TZID=UTC:20260706T170000
DTEND;TZID=UTC:20260706T190000
DTSTAMP:20260425T133525
CREATED:20260112T194621Z
LAST-MODIFIED:20260112T194621Z
UID:1027-1783357200-1783364400@www.prairiewetlands.org
SUMMARY:Board Meeting
DESCRIPTION:Join The Friends of The Prairie Wetlands Learning Center for a board meeting.
URL:https://www.prairiewetlands.org/event/board-meeting-8/
LOCATION:Prairie Wetlands Learning Center\, 602 STATE HWY 210 E\, FERGUS FALLS\, MN\, 56537\, United States
END:VEVENT
BEGIN:VEVENT
DTSTART;TZID=UTC:20260803T170000
DTEND;TZID=UTC:20260803T190000
DTSTAMP:20260425T133525
CREATED:20260112T194728Z
LAST-MODIFIED:20260112T194728Z
UID:1029-1785776400-1785783600@www.prairiewetlands.org
SUMMARY:Board Meeting
DESCRIPTION:Join The Friends of The Prairie Wetlands Learning Center for a board meeting.
URL:https://www.prairiewetlands.org/event/board-meeting-9/
LOCATION:Prairie Wetlands Learning Center\, 602 STATE HWY 210 E\, FERGUS FALLS\, MN\, 56537\, United States
END:VEVENT
BEGIN:VEVENT
DTSTART;TZID=UTC:20260907T170000
DTEND;TZID=UTC:20260907T190000
DTSTAMP:20260425T133525
CREATED:20260112T195037Z
LAST-MODIFIED:20260112T195037Z
UID:1031-1788800400-1788807600@www.prairiewetlands.org
SUMMARY:Board Meeting
DESCRIPTION:Join The Friends of The Prairie Wetlands Learning Center for a board meeting.
URL:https://www.prairiewetlands.org/event/board-meeting-10/
LOCATION:Prairie Wetlands Learning Center\, 602 STATE HWY 210 E\, FERGUS FALLS\, MN\, 56537\, United States
END:VEVENT
BEGIN:VEVENT
DTSTART;TZID=UTC:20261005T170000
DTEND;TZID=UTC:20261005T190000
DTSTAMP:20260425T133525
CREATED:20260112T195159Z
LAST-MODIFIED:20260112T195159Z
UID:1033-1791219600-1791226800@www.prairiewetlands.org
SUMMARY:Board Meeting
DESCRIPTION:Join The Friends of The Prairie Wetlands Learning Center for a board meeting.
URL:https://www.prairiewetlands.org/event/board-meeting-11/
LOCATION:Prairie Wetlands Learning Center\, 602 STATE HWY 210 E\, FERGUS FALLS\, MN\, 56537\, United States
END:VEVENT
BEGIN:VEVENT
DTSTART;TZID=UTC:20261102T170000
DTEND;TZID=UTC:20261102T190000
DTSTAMP:20260425T133525
CREATED:20260112T195259Z
LAST-MODIFIED:20260112T195259Z
UID:1035-1793638800-1793646000@www.prairiewetlands.org
SUMMARY:Board Meeting
DESCRIPTION:Join The Friends of The Prairie Wetlands Learning Center for a board meeting.
URL:https://www.prairiewetlands.org/event/board-meeting-12/
LOCATION:Prairie Wetlands Learning Center\, 602 STATE HWY 210 E\, FERGUS FALLS\, MN\, 56537\, United States
END:VEVENT
BEGIN:VEVENT
DTSTART;TZID=UTC:20261207T170000
DTEND;TZID=UTC:20261207T190000
DTSTAMP:20260425T133525
CREATED:20260112T195348Z
LAST-MODIFIED:20260112T195348Z
UID:1037-1796662800-1796670000@www.prairiewetlands.org
SUMMARY:Board Meeting
DESCRIPTION:Join The Friends of The Prairie Wetlands Learning Center for a board meeting.
URL:https://www.prairiewetlands.org/event/board-meeting-13/
LOCATION:Prairie Wetlands Learning Center\, 602 STATE HWY 210 E\, FERGUS FALLS\, MN\, 56537\, United States
END:VEVENT
END:VCALENDAR